BEGIN:VCALENDAR
VERSION:2.0
PRODID:-//wp-events-plugin.com//7.2.3.1//EN
TZID:Europe/Berlin
X-WR-TIMEZONE:Europe/Berlin
BEGIN:VEVENT
UID:22-3010@jusos-mainz.de
DTSTART;TZID=Europe/Berlin:20260331T190000
DTEND;TZID=Europe/Berlin:20260331T210000
DTSTAMP:20260327T111415Z
URL:https://jusos-mainz.de/termine/events/offene-juso-vorstandssitzung-10/
SUMMARY:Offene Juso-Vorstandssitzung
DESCRIPTION:
CATEGORIES:Jusos Mainz
LOCATION:SPD-Neustadtladen\, Lessingplatz 12\, Mainz\, 55118\, Deutschland
GEO:50.0075705;8.257218899999998
X-APPLE-STRUCTURED-LOCATION;VALUE=URI;X-ADDRESS=Lessingplatz 12\, Mainz\, 5
 5118\, Deutschland;X-APPLE-RADIUS=100;X-TITLE=SPD-Neustadtladen:geo:50.007
 5705,8.257218899999998
END:VEVENT
BEGIN:VTIMEZONE
TZID:Europe/Berlin
X-LIC-LOCATION:Europe/Berlin
BEGIN:DAYLIGHT
DTSTART:20260329T030000
TZOFFSETFROM:+0100
TZOFFSETTO:+0200
TZNAME:CEST
END:DAYLIGHT
END:VTIMEZONE
END:VCALENDAR