BEGIN:VCALENDAR
VERSION:2.0
PRODID:-//wp-events-plugin.com//7.2.3.1//EN
TZID:Europe/Berlin
X-WR-TIMEZONE:Europe/Berlin
BEGIN:VEVENT
UID:22-2060@jusos-mainz.de
DTSTART;TZID=Europe/Berlin:20230322T190000
DTEND;TZID=Europe/Berlin:20230322T190000
DTSTAMP:20230305T160553Z
URL:https://jusos-mainz.de/termine/events/ak-bildung-2/
SUMMARY:AK Bildung
DESCRIPTION:
CATEGORIES:SPD Mainz
LOCATION:SPD-Neustadtladen\, Lessingplatz 12\, Mainz\, 55118\, Deutschland
GEO:50.0075705;8.257218899999998
X-APPLE-STRUCTURED-LOCATION;VALUE=URI;X-ADDRESS=Lessingplatz 12\, Mainz\, 5
 5118\, Deutschland;X-APPLE-RADIUS=100;X-TITLE=SPD-Neustadtladen:geo:50.007
 5705,8.257218899999998
END:VEVENT
BEGIN:VTIMEZONE
TZID:Europe/Berlin
X-LIC-LOCATION:Europe/Berlin
BEGIN:STANDARD
DTSTART:20221030T020000
TZOFFSETFROM:+0200
TZOFFSETTO:+0100
TZNAME:CET
END:STANDARD
END:VTIMEZONE
END:VCALENDAR