BEGIN:VCALENDAR
VERSION:2.0
PRODID:-//wp-events-plugin.com//7.2.3.1//EN
TZID:Europe/Berlin
X-WR-TIMEZONE:Europe/Berlin
BEGIN:VEVENT
UID:22-3046@jusos-mainz.de
DTSTART;TZID=Europe/Berlin:20260501T113000
DTEND;TZID=Europe/Berlin:20260501T130000
DTSTAMP:20260413T112012Z
URL:https://jusos-mainz.de/termine/events/1-mai-demo/
SUMMARY:1. Mai Demo
DESCRIPTION:
CATEGORIES:Jusos Mainz
LOCATION:DGB-Haus\, Kaiserstraße 26-30\, Mainz\, 55116\, Deutschland
GEO:50.0040123;8.263903000000028
X-APPLE-STRUCTURED-LOCATION;VALUE=URI;X-ADDRESS=Kaiserstraße 26-30\, Mainz
 \, 55116\, Deutschland;X-APPLE-RADIUS=100;X-TITLE=DGB-Haus:geo:50.0040123,
 8.263903000000028
END:VEVENT
BEGIN:VTIMEZONE
TZID:Europe/Berlin
X-LIC-LOCATION:Europe/Berlin
BEGIN:DAYLIGHT
DTSTART:20260329T030000
TZOFFSETFROM:+0100
TZOFFSETTO:+0200
TZNAME:CEST
END:DAYLIGHT
END:VTIMEZONE
END:VCALENDAR